BEGIN:VCALENDAR
VERSION:2.0
PRODID:-//Nevada Area 42 - ECPv6.15.20//NONSGML v1.0//EN
CALSCALE:GREGORIAN
METHOD:PUBLISH
X-ORIGINAL-URL:https://nevadaarea42.org
X-WR-CALDESC:Events for Nevada Area 42
REFRESH-INTERVAL;VALUE=DURATION:PT1H
X-Robots-Tag:noindex
X-PUBLISHED-TTL:PT1H
BEGIN:VTIMEZONE
TZID:America/Los_Angeles
BEGIN:DAYLIGHT
TZOFFSETFROM:-0800
TZOFFSETTO:-0700
TZNAME:PDT
DTSTART:20240310T100000
END:DAYLIGHT
BEGIN:STANDARD
TZOFFSETFROM:-0700
TZOFFSETTO:-0800
TZNAME:PST
DTSTART:20241103T090000
END:STANDARD
BEGIN:DAYLIGHT
TZOFFSETFROM:-0800
TZOFFSETTO:-0700
TZNAME:PDT
DTSTART:20250309T100000
END:DAYLIGHT
BEGIN:STANDARD
TZOFFSETFROM:-0700
TZOFFSETTO:-0800
TZNAME:PST
DTSTART:20251102T090000
END:STANDARD
BEGIN:DAYLIGHT
TZOFFSETFROM:-0800
TZOFFSETTO:-0700
TZNAME:PDT
DTSTART:20260308T100000
END:DAYLIGHT
BEGIN:STANDARD
TZOFFSETFROM:-0700
TZOFFSETTO:-0800
TZNAME:PST
DTSTART:20261101T090000
END:STANDARD
BEGIN:DAYLIGHT
TZOFFSETFROM:-0800
TZOFFSETTO:-0700
TZNAME:PDT
DTSTART:20270314T100000
END:DAYLIGHT
BEGIN:STANDARD
TZOFFSETFROM:-0700
TZOFFSETTO:-0800
TZNAME:PST
DTSTART:20271107T090000
END:STANDARD
END:VTIMEZONE
BEGIN:VTIMEZONE
TZID:UTC
BEGIN:STANDARD
TZOFFSETFROM:+0000
TZOFFSETTO:+0000
TZNAME:UTC
DTSTART:20230101T000000
END:STANDARD
END:VTIMEZONE
BEGIN:VEVENT
DTSTART;TZID=America/Los_Angeles:20260410T160000
DTEND;TZID=America/Los_Angeles:20260412T120000
DTSTAMP:20260422T155345
CREATED:20260123T010933Z
LAST-MODIFIED:20260123T010951Z
UID:10002734-1775836800-1775995200@nevadaarea42.org
SUMMARY:Spring Assembly 2026
DESCRIPTION:
URL:https://nevadaarea42.org/event/spring-assembly/
LOCATION:Tonopah Convention Center\, 301 Bougher Ave\, Tonopah\, NV\, 89049\, United States
END:VEVENT
BEGIN:VEVENT
DTSTART;TZID=America/Los_Angeles:20260222T140000
DTEND;TZID=America/Los_Angeles:20260222T150000
DTSTAMP:20260422T155345
CREATED:20260213T125217Z
LAST-MODIFIED:20260213T133104Z
UID:10002735-1771768800-1771772400@nevadaarea42.org
SUMMARY:Area Conference Committee Workshop
DESCRIPTION:Flyer
URL:https://nevadaarea42.org/event/area-conference-committee-workshop/
LOCATION:Online
END:VEVENT
BEGIN:VEVENT
DTSTART;TZID=America/Los_Angeles:20250404T160000
DTEND;TZID=America/Los_Angeles:20250406T120000
DTSTAMP:20260422T155345
CREATED:20250206T003640Z
LAST-MODIFIED:20260121T191840Z
UID:10002109-1743782400-1743940800@nevadaarea42.org
SUMMARY:Spring Pre-Conference Assembly 2025
DESCRIPTION:
URL:https://nevadaarea42.org/event/spring-assembly-2025/
LOCATION:Tonopah Convention Center\, 301 Bougher Ave\, Tonopah\, NV\, 89049\, United States
END:VEVENT
BEGIN:VEVENT
DTSTART;TZID=UTC:20240906T150000
DTEND;TZID=UTC:20240908T120000
DTSTAMP:20260422T155345
CREATED:20240714T225113Z
LAST-MODIFIED:20240904T193704Z
UID:10000996-1725634800-1725796800@nevadaarea42.org
SUMMARY:Fall Area 42 Assembly
DESCRIPTION:Questions or Technical Issues?  Email tickets@nevadaarea42.org
URL:https://nevadaarea42.org/event/fall-area-42-assembly-2/
LOCATION:Tonopah Convention Center\, 301 Bougher Ave\, Tonopah\, NV\, 89049\, United States
END:VEVENT
BEGIN:VEVENT
DTSTART;TZID=UTC:20240405T150000
DTEND;TZID=UTC:20240407T120000
DTSTAMP:20260422T155345
CREATED:20240219T105148Z
LAST-MODIFIED:20240403T173004Z
UID:10000794-1712329200-1712491200@nevadaarea42.org
SUMMARY:Spring Area 42 Assembly
DESCRIPTION:Online registration for in person attendance has been closed.\nYou will be able to register in-person when you arrive in Tonopah Friday after 4pm.\nBanquet tickets that are still available will also be sold at the door.\n\nQuestions or Technical Issues?  Email tickets@nevadaarea42.org
URL:https://nevadaarea42.org/event/spring-area-42-assembly/
LOCATION:Tonopah Convention Center\, 301 Bougher Ave\, Tonopah\, NV\, 89049\, United States
END:VEVENT
END:VCALENDAR