BEGIN:VCALENDAR
VERSION:2.0
PRODID:-//Nevada Area 42 - ECPv6.15.20//NONSGML v1.0//EN
CALSCALE:GREGORIAN
METHOD:PUBLISH
X-ORIGINAL-URL:https://nevadaarea42.org
X-WR-CALDESC:Events for Nevada Area 42
REFRESH-INTERVAL;VALUE=DURATION:PT1H
X-Robots-Tag:noindex
X-PUBLISHED-TTL:PT1H
BEGIN:VTIMEZONE
TZID:America/Los_Angeles
BEGIN:DAYLIGHT
TZOFFSETFROM:-0800
TZOFFSETTO:-0700
TZNAME:PDT
DTSTART:20240310T100000
END:DAYLIGHT
BEGIN:STANDARD
TZOFFSETFROM:-0700
TZOFFSETTO:-0800
TZNAME:PST
DTSTART:20241103T090000
END:STANDARD
BEGIN:DAYLIGHT
TZOFFSETFROM:-0800
TZOFFSETTO:-0700
TZNAME:PDT
DTSTART:20250309T100000
END:DAYLIGHT
BEGIN:STANDARD
TZOFFSETFROM:-0700
TZOFFSETTO:-0800
TZNAME:PST
DTSTART:20251102T090000
END:STANDARD
BEGIN:DAYLIGHT
TZOFFSETFROM:-0800
TZOFFSETTO:-0700
TZNAME:PDT
DTSTART:20260308T100000
END:DAYLIGHT
BEGIN:STANDARD
TZOFFSETFROM:-0700
TZOFFSETTO:-0800
TZNAME:PST
DTSTART:20261101T090000
END:STANDARD
END:VTIMEZONE
BEGIN:VEVENT
DTSTART;TZID=America/Los_Angeles:20250501T183000
DTEND;TZID=America/Los_Angeles:20250501T200000
DTSTAMP:20260420T095554
CREATED:20240615T012246Z
LAST-MODIFIED:20250104T033927Z
UID:10000963-1746124200-1746129600@nevadaarea42.org
SUMMARY:Reunion de distrito 22
DESCRIPTION:
URL:https://nevadaarea42.org/event/reunion-de-distrito-22-18/
LOCATION:436 S Rock Blvd\, Sparks\, NV\, United States
GEO:39.540398;-119.749111
END:VEVENT
BEGIN:VEVENT
DTSTART;TZID=America/Los_Angeles:20250501T190000
DTEND;TZID=America/Los_Angeles:20250501T200000
DTSTAMP:20260420T095554
CREATED:20250127T001342Z
LAST-MODIFIED:20250714T181638Z
UID:10001861-1746126000-1746129600@nevadaarea42.org
SUMMARY:Reunión de negocios del distrito 21
DESCRIPTION:Correo electrónico para más información: district21@nevadaarea42.org
URL:https://nevadaarea42.org/event/reunion-de-negocios-del-distrito-21-211/2025-05-01/
LOCATION:604 E Sahara Ave.\, 604 E Sahara Ave. Suite #3\, Las Vegas\, NV\, 89104\, United States
END:VEVENT
BEGIN:VEVENT
DTSTART;TZID=America/Los_Angeles:20250503T133000
DTEND;TZID=America/Los_Angeles:20250503T143000
DTSTAMP:20260420T095554
CREATED:20250105T234859Z
LAST-MODIFIED:20250113T000447Z
UID:10001730-1746279000-1746282600@nevadaarea42.org
SUMMARY:District 9 Business Meeting
DESCRIPTION:Email for more information:district9@nevadaarea42.org\,
URL:https://nevadaarea42.org/event/district-9-business-meeting-24/2025-05-03/
LOCATION:Central Office\, 1515 E Tropicana Ave UNIT 710\, Las Vegas\, NV 89119\, USA\, 1515 E Tropicana Ave UNIT 710\, Las Vegas\, Nevada\, 89119
END:VEVENT
BEGIN:VEVENT
DTSTART;TZID=America/Los_Angeles:20250508T183000
DTEND;TZID=America/Los_Angeles:20250508T203000
DTSTAMP:20260420T095554
CREATED:20240615T012246Z
LAST-MODIFIED:20250104T033939Z
UID:10000967-1746729000-1746736200@nevadaarea42.org
SUMMARY:District 2 Business Meeting
DESCRIPTION:More information email district2@nevadaarea42.org
URL:https://nevadaarea42.org/event/district-2-business-meeting-18/
LOCATION:Northern Nevada Intergroup Central Office 436 South Rock Sparks\, Sparks\, NV\, United States
GEO:39.540398;-119.749111
END:VEVENT
BEGIN:VEVENT
DTSTART;TZID=America/Los_Angeles:20250508T190000
DTEND;TZID=America/Los_Angeles:20250508T200000
DTSTAMP:20260420T095554
CREATED:20250127T001342Z
LAST-MODIFIED:20250714T181638Z
UID:10001862-1746730800-1746734400@nevadaarea42.org
SUMMARY:Reunión de negocios del distrito 21
DESCRIPTION:Correo electrónico para más información: district21@nevadaarea42.org
URL:https://nevadaarea42.org/event/reunion-de-negocios-del-distrito-21-211/2025-05-08/
LOCATION:604 E Sahara Ave.\, 604 E Sahara Ave. Suite #3\, Las Vegas\, NV\, 89104\, United States
END:VEVENT
BEGIN:VEVENT
DTSTART;TZID=America/Los_Angeles:20250510T131500
DTEND;TZID=America/Los_Angeles:20250510T141500
DTSTAMP:20260420T095554
CREATED:20250302T211006Z
LAST-MODIFIED:20250302T211006Z
UID:10002373-1746882900-1746886500@nevadaarea42.org
SUMMARY:District 5b Business Meeting
DESCRIPTION:Email for more information: district5b@nevadaarea42.org
URL:https://nevadaarea42.org/event/district-5b-business-meeting-25/2025-05-10/
LOCATION:KCB Club\, 5717 W Alexander Rd.\, Las Vegas\, Nevada\, 89130
END:VEVENT
BEGIN:VEVENT
DTSTART;TZID=America/Los_Angeles:20250510T170000
DTEND;TZID=America/Los_Angeles:20250510T183000
DTSTAMP:20260420T095554
CREATED:20240615T012246Z
LAST-MODIFIED:20250104T033939Z
UID:10000971-1746896400-1746901800@nevadaarea42.org
SUMMARY:District 12 Business Meeting
DESCRIPTION:Email for more information: district12@nevadaarea42.org
URL:https://nevadaarea42.org/event/district-12-business-meeting-18/
LOCATION:457 Esmeralda St\, Fallon\, NV\, United States
GEO:39.479393;-118.296879
END:VEVENT
BEGIN:VEVENT
DTSTART;TZID=America/Los_Angeles:20250511T150000
DTEND;TZID=America/Los_Angeles:20250511T160000
DTSTAMP:20260420T095554
CREATED:20240622T013749Z
LAST-MODIFIED:20250104T033939Z
UID:10000972-1746975600-1746979200@nevadaarea42.org
SUMMARY:District 13 Business meeting
DESCRIPTION:
URL:https://nevadaarea42.org/event/district-13-business-meeting-35/
LOCATION:Triangle Club Inc\, 4600 S Nellis Blvd\, Las Vegas\, NV\, United States
GEO:36.105744;-115.06425
X-APPLE-STRUCTURED-LOCATION;VALUE=URI;X-ADDRESS=Triangle Club Inc 4600 S Nellis Blvd Las Vegas NV United States;X-APPLE-RADIUS=500;X-TITLE=4600 S Nellis Blvd:geo:-115.06425,36.105744
END:VEVENT
BEGIN:VEVENT
DTSTART;TZID=America/Los_Angeles:20250513T150000
DTEND;TZID=America/Los_Angeles:20250513T160000
DTSTAMP:20260420T095554
CREATED:20240622T013749Z
LAST-MODIFIED:20250104T033939Z
UID:10000973-1747148400-1747152000@nevadaarea42.org
SUMMARY:District 3 Business Meeting
DESCRIPTION:Email for more information: district3@nevadaarea42.org\nin January\, May\, July\, and November after the SAGSC meetings
URL:https://nevadaarea42.org/event/district-3-business-meeting-18/
LOCATION:T.I.E Club 329 North 11th Street Las Vegas
END:VEVENT
BEGIN:VEVENT
DTSTART;TZID=America/Los_Angeles:20250515T183000
DTEND;TZID=America/Los_Angeles:20250515T200000
DTSTAMP:20260420T095554
CREATED:20240622T013749Z
LAST-MODIFIED:20250104T033939Z
UID:10000976-1747333800-1747339200@nevadaarea42.org
SUMMARY:Reunion de distrito 22 reunion de estudio del manual de servicio
DESCRIPTION:
URL:https://nevadaarea42.org/event/reunion-de-distrito-22-reunion-de-estudio-del-manual-de-servicio-18/
LOCATION:436 S Rock Blvd\, Sparks\, NV\, United States
GEO:39.540398;-119.749111
END:VEVENT
BEGIN:VEVENT
DTSTART;TZID=America/Los_Angeles:20250515T190000
DTEND;TZID=America/Los_Angeles:20250515T200000
DTSTAMP:20260420T095554
CREATED:20250127T001342Z
LAST-MODIFIED:20250714T181638Z
UID:10001863-1747335600-1747339200@nevadaarea42.org
SUMMARY:Reunión de negocios del distrito 21
DESCRIPTION:Correo electrónico para más información: district21@nevadaarea42.org
URL:https://nevadaarea42.org/event/reunion-de-negocios-del-distrito-21-211/2025-05-15/
LOCATION:604 E Sahara Ave.\, 604 E Sahara Ave. Suite #3\, Las Vegas\, NV\, 89104\, United States
END:VEVENT
BEGIN:VEVENT
DTSTART;TZID=America/Los_Angeles:20250517T103000
DTEND;TZID=America/Los_Angeles:20250517T113000
DTSTAMP:20260420T095554
CREATED:20250414T233714Z
LAST-MODIFIED:20250414T233714Z
UID:10002551-1747477800-1747481400@nevadaarea42.org
SUMMARY:District 20 Business Meeting
DESCRIPTION:3rd Saturday in January\, March\, May\, August and October\, 10:30 pm to 12:30 pm\, Rotates within the district. Please email the DCM @ district20@nevadaarea42.org for more information..
URL:https://nevadaarea42.org/event/district-20-business-meeting-25/2025-05-17/
LOCATION:NV
END:VEVENT
BEGIN:VEVENT
DTSTART;TZID=America/Los_Angeles:20250518T100000
DTEND;TZID=America/Los_Angeles:20250518T110000
DTSTAMP:20260420T095554
CREATED:20250223T195312Z
LAST-MODIFIED:20250223T195312Z
UID:10002239-1747562400-1747566000@nevadaarea42.org
SUMMARY:District One Business Meeting
DESCRIPTION:District One monthly business meeting.
URL:https://nevadaarea42.org/event/district-one-business-meeting-4/
LOCATION:Central Office\, 1515 E Tropicana Ave UNIT 710\, Las Vegas\, NV 89119\, USA\, 1515 E Tropicana Ave UNIT 710\, Las Vegas\, Nevada\, 89119
END:VEVENT
BEGIN:VEVENT
DTSTART;TZID=America/Los_Angeles:20250518T120000
DTEND;TZID=America/Los_Angeles:20250518T160000
DTSTAMP:20260420T095554
CREATED:20250223T200720Z
LAST-MODIFIED:20250223T200720Z
UID:10002246-1747569600-1747584000@nevadaarea42.org
SUMMARY:SAGCS Business Meeting
DESCRIPTION:SAGSC Business meeting and Delegate’s report.
URL:https://nevadaarea42.org/event/sagcs-business-meeting/
LOCATION:Central Office\, 1515 E Tropicana Ave UNIT 710\, Las Vegas\, NV 89119\, USA\, 1515 E Tropicana Ave UNIT 710\, Las Vegas\, Nevada\, 89119
END:VEVENT
BEGIN:VEVENT
DTSTART;TZID=America/Los_Angeles:20250518T133000
DTEND;TZID=America/Los_Angeles:20250518T150000
DTSTAMP:20260420T095554
CREATED:20240629T013747Z
LAST-MODIFIED:20250104T033950Z
UID:10000979-1747575000-1747580400@nevadaarea42.org
SUMMARY:District 10a Business Meeting
DESCRIPTION:Email for more information: district10a@nevadaarea.42.org
URL:https://nevadaarea42.org/event/district-10a-business-meeting-9/
LOCATION:680 River St\, Elko\, NV\, United States
GEO:40.905583;-115.534429
END:VEVENT
BEGIN:VEVENT
DTSTART;TZID=America/Los_Angeles:20250518T150000
DTEND;TZID=America/Los_Angeles:20250518T160000
DTSTAMP:20260420T095554
CREATED:20231129T082032Z
LAST-MODIFIED:20240123T112952Z
UID:10000479-1747580400-1747584000@nevadaarea42.org
SUMMARY:District 13 Business meeting
DESCRIPTION:
URL:https://nevadaarea42.org/event/district-13-business-meeting-3/2025-05-18/
LOCATION:Triangle Club Inc\, 4600 S Nellis Blvd\, Las Vegas\, NV\, United States
GEO:36.105744;-115.06425
X-APPLE-STRUCTURED-LOCATION;VALUE=URI;X-ADDRESS=Triangle Club Inc 4600 S Nellis Blvd Las Vegas NV United States;X-APPLE-RADIUS=500;X-TITLE=4600 S Nellis Blvd:geo:-115.06425,36.105744
END:VEVENT
BEGIN:VEVENT
DTSTART;TZID=America/Los_Angeles:20250518T163000
DTEND;TZID=America/Los_Angeles:20250518T173000
DTSTAMP:20260420T095554
CREATED:20240629T013747Z
LAST-MODIFIED:20250104T033950Z
UID:10000980-1747585800-1747589400@nevadaarea42.org
SUMMARY:District 15 Business Meeting
DESCRIPTION:District 15: February\, March\, April\, June\, August\, September\, October\, December – third Sunday of the month at 4:30. January\, May\, July\, November – following SAGSC meeting at the T.I.E. Club. Email for more information: district15@nevadaarea42.org
URL:https://nevadaarea42.org/event/district-15-business-meeting-18/
LOCATION:Tie Club Inc\, 329 N 11th St\, Las Vegas\, NV\, United States
GEO:36.169018;-115.132114
X-APPLE-STRUCTURED-LOCATION;VALUE=URI;X-ADDRESS=Tie Club Inc 329 N 11th St Las Vegas NV United States;X-APPLE-RADIUS=500;X-TITLE=329 N 11th St:geo:-115.132114,36.169018
END:VEVENT
BEGIN:VEVENT
DTSTART;TZID=America/Los_Angeles:20250521T173000
DTEND;TZID=America/Los_Angeles:20250521T185000
DTSTAMP:20260420T095554
CREATED:20231129T082033Z
LAST-MODIFIED:20240217T093426Z
UID:10000747-1747848600-1747853400@nevadaarea42.org
SUMMARY:District 14 Business Meeting
DESCRIPTION:Email for more information: district14@nevadaarea42.org
URL:https://nevadaarea42.org/event/district-14-business-meeting-3/2025-05-21/
LOCATION:265 Bear St\, Kings Beach\, CA 96143\, USA
END:VEVENT
BEGIN:VEVENT
DTSTART;TZID=America/Los_Angeles:20250522T180000
DTEND;TZID=America/Los_Angeles:20250522T190000
DTSTAMP:20260420T095554
CREATED:20250213T221505Z
LAST-MODIFIED:20250302T210055Z
UID:10002313-1747936800-1747940400@nevadaarea42.org
SUMMARY:District 4 Business Meeting
DESCRIPTION:Email for more information and virtual information: district4@nevadaarea42.org \nZoom Meeting ID: 916 3107 1014 Passcode: bestdamnd4
URL:https://nevadaarea42.org/event/district-4-business-meeting-25/2025-05-22/
LOCATION:436 S Rock Blvd\, Sparks\, NV\, United States
GEO:39.540398;-119.749111
END:VEVENT
BEGIN:VEVENT
DTSTART;TZID=America/Los_Angeles:20250522T190000
DTEND;TZID=America/Los_Angeles:20250522T200000
DTSTAMP:20260420T095554
CREATED:20250127T001342Z
LAST-MODIFIED:20250714T181638Z
UID:10001864-1747940400-1747944000@nevadaarea42.org
SUMMARY:Reunión de negocios del distrito 21
DESCRIPTION:Correo electrónico para más información: district21@nevadaarea42.org
URL:https://nevadaarea42.org/event/reunion-de-negocios-del-distrito-21-211/2025-05-22/
LOCATION:604 E Sahara Ave.\, 604 E Sahara Ave. Suite #3\, Las Vegas\, NV\, 89104\, United States
END:VEVENT
BEGIN:VEVENT
DTSTART;TZID=America/Los_Angeles:20250525T143000
DTEND;TZID=America/Los_Angeles:20250525T160000
DTSTAMP:20260420T095554
CREATED:20250104T020727Z
LAST-MODIFIED:20250113T000837Z
UID:10001543-1748183400-1748188800@nevadaarea42.org
SUMMARY:District 7 Business Meeting
DESCRIPTION:Every 4th Sunday\n\n\n\n\n\n\n\n\n@ 2:30pm\nThe Meeting Space\n6115 S Rainbow Blvd #107\nLas Vegas\, NV 89118\nDistrict 7 homepage: https://lasvegasdistrict7.org/
URL:https://nevadaarea42.org/event/district-7-business-meeting-23/2025-05-25/
LOCATION:The Meeting Space\, 6115 S. Rainbow Blvd\, Las Vegas\, NV\, 89118\, United States
END:VEVENT
BEGIN:VEVENT
DTSTART;TZID=America/Los_Angeles:20250525T160000
DTEND;TZID=America/Los_Angeles:20250525T170000
DTSTAMP:20260420T095554
CREATED:20250302T212453Z
LAST-MODIFIED:20250302T212453Z
UID:10002433-1748188800-1748192400@nevadaarea42.org
SUMMARY:District 10b Business Meeting
DESCRIPTION:Email for more information: district10b@nevadaarea.42.org
URL:https://nevadaarea42.org/event/district-10b-business-meeting/2025-05-25/
LOCATION:Rotates
END:VEVENT
BEGIN:VEVENT
DTSTART;TZID=America/Los_Angeles:20250526T170000
DTEND;TZID=America/Los_Angeles:20250526T180000
DTSTAMP:20260420T095554
CREATED:20240706T013744Z
LAST-MODIFIED:20250104T034002Z
UID:10000987-1748278800-1748282400@nevadaarea42.org
SUMMARY:District 13 Business Meeting
DESCRIPTION:Email for more information: district13@nevadaarea42.org
URL:https://nevadaarea42.org/event/district-13-business-meeting-36/
LOCATION:Triangle Club In Small Room 4600 S Nellis Blvd\, Las Vegas\, NV\, United States
GEO:36.122271;-115.09153
END:VEVENT
BEGIN:VEVENT
DTSTART;TZID=America/Los_Angeles:20250529T190000
DTEND;TZID=America/Los_Angeles:20250529T200000
DTSTAMP:20260420T095554
CREATED:20250127T001342Z
LAST-MODIFIED:20250714T181638Z
UID:10001865-1748545200-1748548800@nevadaarea42.org
SUMMARY:Reunión de negocios del distrito 21
DESCRIPTION:Correo electrónico para más información: district21@nevadaarea42.org
URL:https://nevadaarea42.org/event/reunion-de-negocios-del-distrito-21-211/2025-05-29/
LOCATION:604 E Sahara Ave.\, 604 E Sahara Ave. Suite #3\, Las Vegas\, NV\, 89104\, United States
END:VEVENT
END:VCALENDAR