BEGIN:VCALENDAR
VERSION:2.0
PRODID:-//Nevada Area 42 - ECPv6.15.20//NONSGML v1.0//EN
CALSCALE:GREGORIAN
METHOD:PUBLISH
X-ORIGINAL-URL:https://nevadaarea42.org
X-WR-CALDESC:Events for Nevada Area 42
REFRESH-INTERVAL;VALUE=DURATION:PT1H
X-Robots-Tag:noindex
X-PUBLISHED-TTL:PT1H
BEGIN:VTIMEZONE
TZID:UTC
BEGIN:STANDARD
TZOFFSETFROM:+0000
TZOFFSETTO:+0000
TZNAME:UTC
DTSTART:20220101T000000
END:STANDARD
END:VTIMEZONE
BEGIN:VEVENT
DTSTART;TZID=UTC:20231112T130000
DTEND;TZID=UTC:20231112T160000
DTSTAMP:20260422T054928
CREATED:20231106T081252Z
LAST-MODIFIED:20231106T081252Z
UID:10000013-1699794000-1699804800@nevadaarea42.org
SUMMARY:SAGSC Meeting
DESCRIPTION:
URL:https://nevadaarea42.org/event/sagsc-meeting/
LOCATION:Central Office\, 1515 E Tropicana Ave UNIT 710\, Las Vegas\, NV\, 89119\, United States
GEO:36.15896;-115.133703
X-APPLE-STRUCTURED-LOCATION;VALUE=URI;X-ADDRESS=Central Office 1515 E Tropicana Ave UNIT 710 Las Vegas NV 89119 United States;X-APPLE-RADIUS=500;X-TITLE=1515 E Tropicana Ave UNIT 710:geo:-115.133703,36.15896
END:VEVENT
BEGIN:VEVENT
DTSTART;TZID=UTC:20231022T130000
DTEND;TZID=UTC:20231022T160000
DTSTAMP:20260422T054928
CREATED:20231009T065556Z
LAST-MODIFIED:20231009T065556Z
UID:10000012-1697979600-1697990400@nevadaarea42.org
SUMMARY:Service Festival
DESCRIPTION:Southern Area 42 & Intergroup Service Festival
URL:https://nevadaarea42.org/event/service-festival/
LOCATION:Central Office\, 1515 E Tropicana Ave UNIT 710\, Las Vegas\, NV\, 89119\, United States
GEO:36.15896;-115.133703
X-APPLE-STRUCTURED-LOCATION;VALUE=URI;X-ADDRESS=Central Office 1515 E Tropicana Ave UNIT 710 Las Vegas NV 89119 United States;X-APPLE-RADIUS=500;X-TITLE=1515 E Tropicana Ave UNIT 710:geo:-115.133703,36.15896
END:VEVENT
BEGIN:VEVENT
DTSTART;TZID=UTC:20231014T120000
DTEND;TZID=UTC:20231014T160000
DTSTAMP:20260422T054928
CREATED:20230803T001613Z
LAST-MODIFIED:20230806T024140Z
UID:10000006-1697284800-1697299200@nevadaarea42.org
SUMMARY:District 1 Picnic
DESCRIPTION:District 1 Fellowship Picnic Flyer
URL:https://nevadaarea42.org/event/district-1-picnic/
LOCATION:Broadbent Park\, 1301 5th Street\, Boulder City\, NV\, 89005\, United States
END:VEVENT
BEGIN:VEVENT
DTSTART;TZID=UTC:20230709T131500
DTEND;TZID=UTC:20230709T151500
DTSTAMP:20260422T054928
CREATED:20230703T081015Z
LAST-MODIFIED:20230704T003804Z
UID:10000003-1688908500-1688915700@nevadaarea42.org
SUMMARY:SAGSC Meeting
DESCRIPTION:SAGSC Meeting Agenda \nAgenda de la reunión del SAGSC – Español
URL:https://nevadaarea42.org/event/sagsc/
LOCATION:Central Office\, 1515 E Tropicana Ave UNIT 710\, Las Vegas\, NV\, 89119\, United States
GEO:36.15896;-115.133703
X-APPLE-STRUCTURED-LOCATION;VALUE=URI;X-ADDRESS=Central Office 1515 E Tropicana Ave UNIT 710 Las Vegas NV 89119 United States;X-APPLE-RADIUS=500;X-TITLE=1515 E Tropicana Ave UNIT 710:geo:-115.133703,36.15896
END:VEVENT
BEGIN:VEVENT
DTSTART;TZID=UTC:20230624T140000
DTEND;TZID=UTC:20230624T160000
DTSTAMP:20260422T054928
CREATED:20230612T060909Z
LAST-MODIFIED:20230612T063205Z
UID:10000002-1687615200-1687622400@nevadaarea42.org
SUMMARY:Area 42 Literature Festival
DESCRIPTION:Area 42 Literature Festival Flyer
URL:https://nevadaarea42.org/event/area-42-literature-festival/
LOCATION:Central Office\, 1515 E Tropicana Ave UNIT 710\, Las Vegas\, NV\, 89119\, United States
GEO:36.15896;-115.133703
X-APPLE-STRUCTURED-LOCATION;VALUE=URI;X-ADDRESS=Central Office 1515 E Tropicana Ave UNIT 710 Las Vegas NV 89119 United States;X-APPLE-RADIUS=500;X-TITLE=1515 E Tropicana Ave UNIT 710:geo:-115.133703,36.15896
END:VEVENT
END:VCALENDAR