BEGIN:VCALENDAR
VERSION:2.0
PRODID:-//Nevada Area 42 - ECPv6.15.20//NONSGML v1.0//EN
CALSCALE:GREGORIAN
METHOD:PUBLISH
X-WR-CALNAME:Nevada Area 42
X-ORIGINAL-URL:https://nevadaarea42.org
X-WR-CALDESC:Events for Nevada Area 42
REFRESH-INTERVAL;VALUE=DURATION:PT1H
X-Robots-Tag:noindex
X-PUBLISHED-TTL:PT1H
BEGIN:VTIMEZONE
TZID:America/Los_Angeles
BEGIN:DAYLIGHT
TZOFFSETFROM:-0800
TZOFFSETTO:-0700
TZNAME:PDT
DTSTART:20250309T100000
END:DAYLIGHT
BEGIN:STANDARD
TZOFFSETFROM:-0700
TZOFFSETTO:-0800
TZNAME:PST
DTSTART:20251102T090000
END:STANDARD
BEGIN:DAYLIGHT
TZOFFSETFROM:-0800
TZOFFSETTO:-0700
TZNAME:PDT
DTSTART:20260308T100000
END:DAYLIGHT
BEGIN:STANDARD
TZOFFSETFROM:-0700
TZOFFSETTO:-0800
TZNAME:PST
DTSTART:20261101T090000
END:STANDARD
BEGIN:DAYLIGHT
TZOFFSETFROM:-0800
TZOFFSETTO:-0700
TZNAME:PDT
DTSTART:20270314T100000
END:DAYLIGHT
BEGIN:STANDARD
TZOFFSETFROM:-0700
TZOFFSETTO:-0800
TZNAME:PST
DTSTART:20271107T090000
END:STANDARD
END:VTIMEZONE
BEGIN:VEVENT
DTSTART;TZID=America/Los_Angeles:20260421T184500
DTEND;TZID=America/Los_Angeles:20260421T194500
DTSTAMP:20260421T031409
CREATED:20250623T020508Z
LAST-MODIFIED:20250623T020508Z
UID:10002563-1776797100-1776800700@nevadaarea42.org
SUMMARY:Distict 16 Business Meeting
DESCRIPTION:Monthly District Business Meeting\n\nEmail for more information: district16@nevadaarea.42.org
URL:https://nevadaarea42.org/event/distict-16-business-meeting/2026-04-21/
LOCATION:424 Greenbrae Drive\, Sparks\, 424 Greenbrae Drive\, Sparks\, NV\, 89431\, United States
END:VEVENT
END:VCALENDAR