BEGIN:VCALENDAR
VERSION:2.0
PRODID:-//Nevada Area 42 - ECPv6.15.20//NONSGML v1.0//EN
CALSCALE:GREGORIAN
METHOD:PUBLISH
X-WR-CALNAME:Nevada Area 42
X-ORIGINAL-URL:https://nevadaarea42.org
X-WR-CALDESC:Events for Nevada Area 42
REFRESH-INTERVAL;VALUE=DURATION:PT1H
X-Robots-Tag:noindex
X-PUBLISHED-TTL:PT1H
BEGIN:VTIMEZONE
TZID:America/Los_Angeles
BEGIN:DAYLIGHT
TZOFFSETFROM:-0800
TZOFFSETTO:-0700
TZNAME:PDT
DTSTART:20250309T100000
END:DAYLIGHT
BEGIN:STANDARD
TZOFFSETFROM:-0700
TZOFFSETTO:-0800
TZNAME:PST
DTSTART:20251102T090000
END:STANDARD
BEGIN:DAYLIGHT
TZOFFSETFROM:-0800
TZOFFSETTO:-0700
TZNAME:PDT
DTSTART:20260308T100000
END:DAYLIGHT
BEGIN:STANDARD
TZOFFSETFROM:-0700
TZOFFSETTO:-0800
TZNAME:PST
DTSTART:20261101T090000
END:STANDARD
BEGIN:DAYLIGHT
TZOFFSETFROM:-0800
TZOFFSETTO:-0700
TZNAME:PDT
DTSTART:20270314T100000
END:DAYLIGHT
BEGIN:STANDARD
TZOFFSETFROM:-0700
TZOFFSETTO:-0800
TZNAME:PST
DTSTART:20271107T090000
END:STANDARD
END:VTIMEZONE
BEGIN:VEVENT
DTSTART;TZID=America/Los_Angeles:20260419T150000
DTEND;TZID=America/Los_Angeles:20260419T160000
DTSTAMP:20260419T072957
CREATED:20231129T082032Z
LAST-MODIFIED:20240123T112952Z
UID:10000490-1776610800-1776614400@nevadaarea42.org
SUMMARY:District 13 Business meeting
DESCRIPTION:
URL:https://nevadaarea42.org/event/district-13-business-meeting-3/2026-04-19/
LOCATION:Triangle Club Inc\, 4600 S Nellis Blvd\, Las Vegas\, NV\, United States
GEO:36.105744;-115.06425
X-APPLE-STRUCTURED-LOCATION;VALUE=URI;X-ADDRESS=Triangle Club Inc 4600 S Nellis Blvd Las Vegas NV United States;X-APPLE-RADIUS=500;X-TITLE=4600 S Nellis Blvd:geo:-115.06425,36.105744
END:VEVENT
END:VCALENDAR